BEGIN:VCALENDAR
VERSION:1.0
PRODID:Open2CKalenderExportV11
BEGIN:VEVENT
DTSTAMP:20191030T111914Z
DTSTART:20191117T140000Z
DTEND:20191117T180000Z
URL:https://www.kulturkreis-irschenberg.de/kunstaustellung.html
SUMMARY:5. Irschenberger Kunstausstellung Malereien - Skulpturen - Fotografien
DESCRIPTION: |   | Organisator   Kulturkreis Irschenberg | Kontakt   Klara Wude, Tel. 08025-6431
LOCATION:Mehrzweckhalle Irschenberg
UID:e6777771331bb04316f9e6fd529864f7-c0c6f14e038ef621eb7fb91d5473a984
PRIORITY:3
END:VEVENT
END:VCALENDAR
