BEGIN:VCALENDAR
VERSION:2.0
PRODID:< http://www.open2c.de/ >
METHOD:PUBLISH
X-PUBLISHED-TTL:PT12H
BEGIN:VEVENT
CREATED:20190117T083130Z
LAST-MODIFIED:20250408T194415Z
ORGANIZER;CN="Kulturkreis Irschenberg"
DTSTAMP:20260420T080854Z
DTSTART;VALUE=DATE:20250509
URL:https://www.kulturkreis-irschenberg.de/programm
SUMMARY:Hoagascht beim Wirt in Loiderding
DESCRIPTION: Organisator Kulturkreis Irschenberg
LOCATION:Wirt in Loiderding
UID:7bf3287f53cadf2ebf9c460caadf34f2@2d380887e9dcfaa846bfb5beb5fe4dbc
END:VEVENT
END:VCALENDAR